BEGIN:VCALENDAR
VERSION:2.0
PRODID:-//Delaware Ornithological Society - ECPv6.15.18//NONSGML v1.0//EN
CALSCALE:GREGORIAN
METHOD:PUBLISH
X-WR-CALNAME:Delaware Ornithological Society
X-ORIGINAL-URL:https://www.dosbirds.org
X-WR-CALDESC:Events for Delaware Ornithological Society
REFRESH-INTERVAL;VALUE=DURATION:PT1H
X-Robots-Tag:noindex
X-PUBLISHED-TTL:PT1H
BEGIN:VTIMEZONE
TZID:America/New_York
BEGIN:DAYLIGHT
TZOFFSETFROM:-0500
TZOFFSETTO:-0400
TZNAME:EDT
DTSTART:20240310T070000
END:DAYLIGHT
BEGIN:STANDARD
TZOFFSETFROM:-0400
TZOFFSETTO:-0500
TZNAME:EST
DTSTART:20241103T060000
END:STANDARD
BEGIN:DAYLIGHT
TZOFFSETFROM:-0500
TZOFFSETTO:-0400
TZNAME:EDT
DTSTART:20250309T070000
END:DAYLIGHT
BEGIN:STANDARD
TZOFFSETFROM:-0400
TZOFFSETTO:-0500
TZNAME:EST
DTSTART:20251102T060000
END:STANDARD
BEGIN:DAYLIGHT
TZOFFSETFROM:-0500
TZOFFSETTO:-0400
TZNAME:EDT
DTSTART:20260308T070000
END:DAYLIGHT
BEGIN:STANDARD
TZOFFSETFROM:-0400
TZOFFSETTO:-0500
TZNAME:EST
DTSTART:20261101T060000
END:STANDARD
END:VTIMEZONE
BEGIN:VEVENT
DTSTART;TZID=America/New_York:20250319T190000
DTEND;TZID=America/New_York:20250319T210000
DTSTAMP:20260421T055315
CREATED:20250219T150358Z
LAST-MODIFIED:20250219T223525Z
UID:7215-1742410800-1742418000@www.dosbirds.org
SUMMARY:DOS March Meeting: "Echoes of the Estuary: Using Sound to Study Marsh Birds" by Kelly Faller
DESCRIPTION:Doors open at 6:30 pm. Come early to socialize and meet DOS officers and the rest of the birding community! \n\n\n\n\n\n\n\n \n\n\n\nAdvances in acoustic technology and artificial intelligence are revolutionizing bird research\, making it possible to monitor entire landscapes in new ways. This talk will explore how passive acoustic monitoring is expanding our ability to study marsh birds\, track habitat changes\, and measure the impact of restoration efforts at an unprecedented scale. With the help of artificial intelligence\, we can now sift through thousands of hours of recordings to detect rare and elusive species like the Eastern Black Rail and Saltmarsh Sparrow. With machine learning unlocking new ways to analyze vast amounts of sound data\, we are entering a new era of conservation where listening to the landscape can guide smarter\, more effective protection of marsh-dependent birds. This presentation will highlight the beauty of coastal marshes and how technology is helping us protect and preserve these unique ecosystems and the birds that rely on them.  \n\n\n\n\n\n\n\n\n\n\n\n\n\n \n\n\n\nKelly Faller is Lead Estuary Science Coordinator at Partnership for the Delaware Estuary. Her main role is to assist with the design\, development\, and implementation of tasks and initiatives related to PDE’s scientific projects and programs (i.e.\, wetlands\, restoration\, and shellfish). Prior to joining PDE\, Faller earned her Bachelor’s degree in Ecology\, Evolution\, and Natural Resources from Rutgers University in 2021. There\, she completed a George H. Cook honors thesis studying how invasive forest vegetation impacts bat foraging ecology. Later\, she worked as a North Pacific Groundfish Observer in Alaska. In her free time\, she enjoys hiking in the Pine Barrens of New Jersey\, birding\, and traveling to the colder parts of the world. \n\n\n\n\n\n\n\n\n\n\n\n\n\n\n\n\n\nThe meeting is held in person at Ashland Nature Center and online via Zoom software. The in person meeting is open to everyone\, but the Zoom presentation is for DOS members only. \n\n\n\nMembers in good standing will receive an email with Zoom login info prior to the meeting.  If you are not a member and would like to attend virtually\, please consider joining DOS.   \n\n\n\nWe look forward to seeing you soon!
URL:https://www.dosbirds.org/event/dos-march-meeting-echoes-of-the-estuary-using-sound-to-study-marsh-birds-by-kelly-faller/
LOCATION:Ashland Nature Center\, 3511 Barley Mill Road\, Hockessin\, DE\, 19707\, United States
CATEGORIES:Meetings
ATTACH;FMTTYPE=image/jpeg:https://www.dosbirds.org/wp-content/uploads/2025/02/Echoes-of-the-Marsh-1-scaled.jpg
END:VEVENT
END:VCALENDAR